BEGIN:VCALENDAR
PRODID:-//Microsoft Corporation//Outlook 12.0 MIMEDIR//EN
VERSION:2.0
CALSCALE:GREGORIAN
BEGIN:VEVENT
UID: c3fed62c-c142-4b4c-b50f-ef8b03a9a75d
SUMMARY:4.c, 5.v, 5.w õppekäigul Viru rabas
DTSTAMP:20260428T081500
DTSTART:20260428T081500
DTEND:20260428T140000
LOCATION:Viru raba
DESCRIPTION: <p><strong>Link: </strong>https://tk.edu.ee/et/sundmuste-kalender/4c-5v-5w-oppekaigul-viru-rabas</p><p><strong>Hind: </strong></p>
STATUS:CONFIRMED
SEQUENCE:3
X-ALT-DESC;FMTTYPE=text/html:<p><strong>Link: </strong>https://tk.edu.ee/et/sundmuste-kalender/4c-5v-5w-oppekaigul-viru-rabas</p><p><strong>Hind: </strong></p>
X-MICROSOFT-CDO-BUSYSTATUS:OOF
X-MICROSOFT-CDO-IMPORTANCE:1
X-MICROSOFT-DISALLOW-COUNTER:FALSE
X-MS-OLK-ALLOWEXTERNCHECK:TRUE
X-MS-OLK-CONFTYPE:0
X-MICROSOFT-CDO-ALLDAYEVENT:
X-MICROSOFT-MSNCALENDAR-ALLDAYEVENT:
END:VEVENT
END:VCALENDAR