BEGIN:VCALENDAR
PRODID:-//Microsoft Corporation//Outlook 12.0 MIMEDIR//EN
VERSION:2.0
CALSCALE:GREGORIAN
BEGIN:VEVENT
UID: 636650d9-e6ae-4452-b30d-de21167d7c09
SUMMARY:5.d õppekäigul Anija mõisas
DTSTAMP:20260424T080000
DTSTART:20260424T080000
DTEND:20260424T143000
LOCATION:Anija mõis
DESCRIPTION: <p><strong>Link: </strong>https://tk.edu.ee/et/sundmuste-kalender/5d-oppekaigul-anija-moisas</p><p><strong>Hind: </strong></p>
STATUS:CONFIRMED
SEQUENCE:3
X-ALT-DESC;FMTTYPE=text/html:<p><strong>Link: </strong>https://tk.edu.ee/et/sundmuste-kalender/5d-oppekaigul-anija-moisas</p><p><strong>Hind: </strong></p>
X-MICROSOFT-CDO-BUSYSTATUS:OOF
X-MICROSOFT-CDO-IMPORTANCE:1
X-MICROSOFT-DISALLOW-COUNTER:FALSE
X-MS-OLK-ALLOWEXTERNCHECK:TRUE
X-MS-OLK-CONFTYPE:0
X-MICROSOFT-CDO-ALLDAYEVENT:
X-MICROSOFT-MSNCALENDAR-ALLDAYEVENT:
END:VEVENT
END:VCALENDAR