BEGIN:VCALENDAR
PRODID:-//Microsoft Corporation//Outlook 12.0 MIMEDIR//EN
VERSION:2.0
CALSCALE:GREGORIAN
BEGIN:VEVENT
UID: 05015af0-eea4-4738-9427-af72282373da
SUMMARY:8.a õppekäigul Tallinna Teletornis
DTSTAMP:20260427T101000
DTSTART:20260427T101000
DTEND:20260427T143000
LOCATION:Tallinna Teletorn
DESCRIPTION: <p>Osalevad õppeprogrammi raames - <a href="https://teletorn.ee/haridusprogramm/reelslab/">https://teletorn.ee/haridusprogramm/reelslab</a></p><p><strong>Link: </strong>https://tk.edu.ee/et/sundmuste-kalender/8a-oppekaigul-tallinna-teletornis-0</p><p><strong>Hind: </strong></p>
STATUS:CONFIRMED
SEQUENCE:3
X-ALT-DESC;FMTTYPE=text/html:<p>Osalevad õppeprogrammi raames - <a href="https://teletorn.ee/haridusprogramm/reelslab/">https://teletorn.ee/haridusprogramm/reelslab</a></p><p><strong>Link: </strong>https://tk.edu.ee/et/sundmuste-kalender/8a-oppekaigul-tallinna-teletornis-0</p><p><strong>Hind: </strong></p>
X-MICROSOFT-CDO-BUSYSTATUS:OOF
X-MICROSOFT-CDO-IMPORTANCE:1
X-MICROSOFT-DISALLOW-COUNTER:FALSE
X-MS-OLK-ALLOWEXTERNCHECK:TRUE
X-MS-OLK-CONFTYPE:0
X-MICROSOFT-CDO-ALLDAYEVENT:
X-MICROSOFT-MSNCALENDAR-ALLDAYEVENT:
END:VEVENT
END:VCALENDAR